BEGIN:VCALENDAR
VERSION:2.0
METHOD:PUBLISH
BEGIN:VEVENT
UID:WILD_APRICOT_EVENT_3746252_SESSION_1
DTSTART:20200319T063000Z
DTEND:20200319T083000Z
SUMMARY:Circular Economy and Understanding Plastics
LOCATION:ReGen Plastics\, 368 Mulgrave Road\, Westcourt.
DESCRIPTION:https://cfwr.org.au/event-3746252\n\nJoin us onsite at ReGen Plastics (FNQ Plastics) for a tour of the recycled manufacturing line and presentation by Lesley and Colin Van Staveren.\n  Highlights include:\n      * The definition of a circular economy.\n\n        * How we can continue to build strong local enterprise by true collaboration.\n\n        * The learning's of establishing a new business within the recycled plastics industry.\n\n        * Understanding plastics as a resource.\n\n        * How we can continue to capture what is already in existence and develop further opportunity.\n\n  The CFWR team will also be sharing insights on what to expect in the year ahead for our membership organisation.\n  Numbers are limited\, please book early.\n  $10 members\n  $15 non-members\n  \n\n  Light refreshments provided and 1 drink on entry.\n  \n\n  NOTE: Please wear closed in shoes.\n  \n\n
DTSTAMP:20200228T050900Z
END:VEVENT
END:VCALENDAR
